BEGIN:VCALENDAR
VERSION:2.0
PRODID:-//Legends Bay Casino - ECPv6.15.20//NONSGML v1.0//EN
CALSCALE:GREGORIAN
METHOD:PUBLISH
X-WR-CALNAME:Legends Bay Casino
X-ORIGINAL-URL:https://legendsbaycasino.com
X-WR-CALDESC:Events for Legends Bay Casino
REFRESH-INTERVAL;VALUE=DURATION:PT1H
X-Robots-Tag:noindex
X-PUBLISHED-TTL:PT1H
BEGIN:VTIMEZONE
TZID:America/Los_Angeles
BEGIN:DAYLIGHT
TZOFFSETFROM:-0800
TZOFFSETTO:-0700
TZNAME:PDT
DTSTART:20210314T100000
END:DAYLIGHT
BEGIN:STANDARD
TZOFFSETFROM:-0700
TZOFFSETTO:-0800
TZNAME:PST
DTSTART:20211107T090000
END:STANDARD
BEGIN:DAYLIGHT
TZOFFSETFROM:-0800
TZOFFSETTO:-0700
TZNAME:PDT
DTSTART:20220313T100000
END:DAYLIGHT
BEGIN:STANDARD
TZOFFSETFROM:-0700
TZOFFSETTO:-0800
TZNAME:PST
DTSTART:20221106T090000
END:STANDARD
BEGIN:DAYLIGHT
TZOFFSETFROM:-0800
TZOFFSETTO:-0700
TZNAME:PDT
DTSTART:20230312T100000
END:DAYLIGHT
BEGIN:STANDARD
TZOFFSETFROM:-0700
TZOFFSETTO:-0800
TZNAME:PST
DTSTART:20231105T090000
END:STANDARD
END:VTIMEZONE
BEGIN:VEVENT
DTSTART;VALUE=DATE:20221204
DTEND;VALUE=DATE:20221205
DTSTAMP:20260420T085643
CREATED:20221129T004736Z
LAST-MODIFIED:20221129T004737Z
UID:10000403-1670112000-1670198399@legendsbaycasino.com
SUMMARY:4X Points
DESCRIPTION:Earn 4X Points Sundays and Tuesdays.\nAll Games. All Day!\nIt’s 4X Holiday Points! Four times faster\, 4X sweeter! \n10\,000-Point maximum. Point multiplier automatically added to account; no opt-in required. Must be a rewards member to participate. Management reserves all rights.
URL:https://legendsbaycasino.com/event/4x-points/2022-12-04/
LOCATION:NV
CATEGORIES:Casino Promotions
ATTACH;FMTTYPE=image/jpeg:https://legendsbaycasino.com/wp-content/uploads/2022/11/LBC_14260-Dec22-Promo-JPGs_1080x10806.jpg
END:VEVENT
BEGIN:VEVENT
DTSTART;TZID=America/Los_Angeles:20221204T160000
DTEND;TZID=America/Los_Angeles:20221204T210000
DTSTAMP:20260420T085643
CREATED:20221104T231446Z
LAST-MODIFIED:20221104T231513Z
UID:10000351-1670169600-1670187600@legendsbaycasino.com
SUMMARY:Sunday Supper@Duke's
DESCRIPTION:FEAST WITH FAMILY AND FRIENDS!\nGather at Duke’s Steak House every Sunday for a gourmet twist on comfort food favorites.\nAll served family style.\nCombat the “Sunday Blues” with Sunday Supper@Duke’s\, the new dinner series at Duke’s Steak House located in Legends Bay Casino. Designed to be enjoyed as a family-style dinner featuring sumptuous\, elevated comfort food\, it’s the ideal setting for a family gathering\, or for any group of friends looking to elevate their Sunday night dinner plans. \nClick here to view weekly menus and make reservations.
URL:https://legendsbaycasino.com/event/sunday-supperdukes/2022-12-04/
LOCATION:Duke’s Steak House\, 100 Legends Bay Drive\, Sparks\, NV\, 89434\, United States
CATEGORIES:Casino Promotions
ATTACH;FMTTYPE=image/jpeg:https://legendsbaycasino.com/wp-content/uploads/2022/11/LBC_13986-Nov22-Promo-JPGs_1080x108010.jpg
END:VEVENT
BEGIN:VEVENT
DTSTART;VALUE=DATE:20221205
DTEND;VALUE=DATE:20221206
DTSTAMP:20260420T085643
CREATED:20221129T003819Z
LAST-MODIFIED:20221129T003819Z
UID:10000385-1670198400-1670284799@legendsbaycasino.com
SUMMARY:4X Comp Dollars
DESCRIPTION:Get 4X Comp Dollars Mondays & Wednesdays.\nAll Games. All Day!\nEarn 4X Comp Dollars with your play to redeem for dining\, hotel stays\, movies\, shopping\, and more! \nComp Dollar multiplier automatically added to account; no opt-in required. Excludes Live Keno. Must be a rewards member to participate. Management reserves all rights.
URL:https://legendsbaycasino.com/event/4x-comp-dollars-2/2022-12-05/
LOCATION:NV
CATEGORIES:Casino Promotions
ATTACH;FMTTYPE=image/jpeg:https://legendsbaycasino.com/wp-content/uploads/2022/11/LBC_14260-Dec22-Promo-JPGs_1080x10804.jpg
END:VEVENT
BEGIN:VEVENT
DTSTART;VALUE=DATE:20221205
DTEND;VALUE=DATE:20221206
DTSTAMP:20260420T085643
CREATED:20221129T004434Z
LAST-MODIFIED:20221129T004815Z
UID:10000387-1670198400-1670284799@legendsbaycasino.com
SUMMARY:HO HO Vino Wine Giveaway
DESCRIPTION:Monday – Thursday December 1st – 29th\nTake home a bottle of wine every day when you earn 50 Base Points in a day playing slots\, video poker\, or table games.\nPlus\, you keep the points! \nYour choice from the Cellars of Canyon Road Winery: \nPinot Grigio • White Zinfandel • Chardonnay\nCabernet Sauvignon • Pinot Nior • Merlot\nSparkling Apple Cider \nLimit one item per account\, per day. While supplies last. Item must be redeemed by 11:59pm on the day earned. Details available at the LB Rewards counter. Management reserves all rights.
URL:https://legendsbaycasino.com/event/ho-ho-vino-wine-giveaway/2022-12-05/
LOCATION:NV
CATEGORIES:Casino Promotions
ATTACH;FMTTYPE=image/jpeg:https://legendsbaycasino.com/wp-content/uploads/2022/11/LBC_14260-Dec22-Promo-JPGs_1080x10805.jpg
END:VEVENT
BEGIN:VEVENT
DTSTART;VALUE=DATE:20221206
DTEND;VALUE=DATE:20221207
DTSTAMP:20260420T085643
CREATED:20221129T004736Z
LAST-MODIFIED:20221129T004737Z
UID:10000404-1670284800-1670371199@legendsbaycasino.com
SUMMARY:4X Points
DESCRIPTION:Earn 4X Points Sundays and Tuesdays.\nAll Games. All Day!\nIt’s 4X Holiday Points! Four times faster\, 4X sweeter! \n10\,000-Point maximum. Point multiplier automatically added to account; no opt-in required. Must be a rewards member to participate. Management reserves all rights.
URL:https://legendsbaycasino.com/event/4x-points/2022-12-06/
LOCATION:NV
CATEGORIES:Casino Promotions
ATTACH;FMTTYPE=image/jpeg:https://legendsbaycasino.com/wp-content/uploads/2022/11/LBC_14260-Dec22-Promo-JPGs_1080x10806.jpg
END:VEVENT
BEGIN:VEVENT
DTSTART;VALUE=DATE:20221206
DTEND;VALUE=DATE:20221207
DTSTAMP:20260420T085643
CREATED:20221205T220128Z
LAST-MODIFIED:20221205T220129Z
UID:10000388-1670284800-1670371199@legendsbaycasino.com
SUMMARY:HO HO Vino Wine Giveaway
DESCRIPTION:Monday – Thursday December 1st – 29th\nTake home a bottle of wine when you earn 50 Base Points in a day playing slots\, video poker\, or table games.\nPlus\, you keep the points! \nYour choice from the Cellars of Canyon Road Winery: \nPinot Grigio • White Zinfandel • Chardonnay\nCabernet Sauvignon • Pinot Nior • Merlot\nSparkling Apple Cider \nLimit one item per account\, per day. While supplies last. Item must be redeemed by 11:59pm on the day earned. Details available at the LB Rewards counter. Management reserves all rights.
URL:https://legendsbaycasino.com/event/ho-ho-vino-wine-giveaway-2/2022-12-06/
LOCATION:NV
CATEGORIES:Casino Promotions
ATTACH;FMTTYPE=image/jpeg:https://legendsbaycasino.com/wp-content/uploads/2022/11/LBC_14260-Dec22-Promo-JPGs_1080x10805.jpg
END:VEVENT
BEGIN:VEVENT
DTSTART;VALUE=DATE:20221207
DTEND;VALUE=DATE:20221208
DTSTAMP:20260420T085643
CREATED:20221205T220128Z
LAST-MODIFIED:20221205T220129Z
UID:10000389-1670371200-1670457599@legendsbaycasino.com
SUMMARY:HO HO Vino Wine Giveaway
DESCRIPTION:Monday – Thursday December 1st – 29th\nTake home a bottle of wine when you earn 50 Base Points in a day playing slots\, video poker\, or table games.\nPlus\, you keep the points! \nYour choice from the Cellars of Canyon Road Winery: \nPinot Grigio • White Zinfandel • Chardonnay\nCabernet Sauvignon • Pinot Nior • Merlot\nSparkling Apple Cider \nLimit one item per account\, per day. While supplies last. Item must be redeemed by 11:59pm on the day earned. Details available at the LB Rewards counter. Management reserves all rights.
URL:https://legendsbaycasino.com/event/ho-ho-vino-wine-giveaway-2/2022-12-07/
LOCATION:NV
CATEGORIES:Casino Promotions
ATTACH;FMTTYPE=image/jpeg:https://legendsbaycasino.com/wp-content/uploads/2022/11/LBC_14260-Dec22-Promo-JPGs_1080x10805.jpg
END:VEVENT
BEGIN:VEVENT
DTSTART;VALUE=DATE:20221208
DTEND;VALUE=DATE:20221209
DTSTAMP:20260420T085643
CREATED:20221205T220128Z
LAST-MODIFIED:20221205T220129Z
UID:10000390-1670457600-1670543999@legendsbaycasino.com
SUMMARY:HO HO Vino Wine Giveaway
DESCRIPTION:Monday – Thursday December 1st – 29th\nTake home a bottle of wine when you earn 50 Base Points in a day playing slots\, video poker\, or table games.\nPlus\, you keep the points! \nYour choice from the Cellars of Canyon Road Winery: \nPinot Grigio • White Zinfandel • Chardonnay\nCabernet Sauvignon • Pinot Nior • Merlot\nSparkling Apple Cider \nLimit one item per account\, per day. While supplies last. Item must be redeemed by 11:59pm on the day earned. Details available at the LB Rewards counter. Management reserves all rights.
URL:https://legendsbaycasino.com/event/ho-ho-vino-wine-giveaway-2/2022-12-08/
LOCATION:NV
CATEGORIES:Casino Promotions
ATTACH;FMTTYPE=image/jpeg:https://legendsbaycasino.com/wp-content/uploads/2022/11/LBC_14260-Dec22-Promo-JPGs_1080x10805.jpg
END:VEVENT
BEGIN:VEVENT
DTSTART;VALUE=DATE:20221209
DTEND;VALUE=DATE:20221210
DTSTAMP:20260420T085643
CREATED:20221128T231842Z
LAST-MODIFIED:20221129T005456Z
UID:10000415-1670544000-1670630399@legendsbaycasino.com
SUMMARY:$63\,000 Whoppin' Shoppin' Giveaway
DESCRIPTION:Be a Shopping Legend\nJoin us this holiday season for a $63\,000 Whoppin’ Shoppin’ Giveaway at Legends Bay Casino! Earn entries every day from December 1st-30th with drawings every Friday and Saturday at 8pm. \nWin Free Play and Outlets of Legends gift cards. \n$2\,500 TOP PRIZE EVERY DRAWING! \nPlus\, 4 additional winners get $375-$1\,000 and 20 runners-up take home a $100 gift card to the Outlets at Legends! \nEarn entries daily playing slots\, video poker\, and table games. \n10 Base Points = 1 entry. \nDetails available at the LB Rewards counter. All prizes must be claimed by 12:00am on the day earned. Free Play may be taken in lieu of gift card. Management reserves all rights.
URL:https://legendsbaycasino.com/event/63000-whoppin-shoppin-giveaway/2022-12-09/
LOCATION:Legends Bay Casino\, 100 Legends Bay Drive\, Sparks\, NV\, 89434\, United States
CATEGORIES:Casino Promotions
ATTACH;FMTTYPE=image/jpeg:https://legendsbaycasino.com/wp-content/uploads/2022/11/LBC_14260-Dec22-Promo-JPGs_1080x1080.jpg
END:VEVENT
BEGIN:VEVENT
DTSTART;TZID=America/Los_Angeles:20221209T193000
DTEND;TZID=America/Los_Angeles:20221209T193000
DTSTAMP:20260420T085643
CREATED:20221006T164021Z
LAST-MODIFIED:20221006T164021Z
UID:10000275-1670614200-1670614200@legendsbaycasino.com
SUMMARY:Arizona Jones
DESCRIPTION:
URL:https://legendsbaycasino.com/event/arizona-jones-3/2022-12-09/
LOCATION:NV
CATEGORIES:Bandwagon Entertainment
END:VEVENT
BEGIN:VEVENT
DTSTART;VALUE=DATE:20221210
DTEND;VALUE=DATE:20221211
DTSTAMP:20260420T085643
CREATED:20221128T231842Z
LAST-MODIFIED:20221129T005456Z
UID:10000416-1670630400-1670716799@legendsbaycasino.com
SUMMARY:$63\,000 Whoppin' Shoppin' Giveaway
DESCRIPTION:Be a Shopping Legend\nJoin us this holiday season for a $63\,000 Whoppin’ Shoppin’ Giveaway at Legends Bay Casino! Earn entries every day from December 1st-30th with drawings every Friday and Saturday at 8pm. \nWin Free Play and Outlets of Legends gift cards. \n$2\,500 TOP PRIZE EVERY DRAWING! \nPlus\, 4 additional winners get $375-$1\,000 and 20 runners-up take home a $100 gift card to the Outlets at Legends! \nEarn entries daily playing slots\, video poker\, and table games. \n10 Base Points = 1 entry. \nDetails available at the LB Rewards counter. All prizes must be claimed by 12:00am on the day earned. Free Play may be taken in lieu of gift card. Management reserves all rights.
URL:https://legendsbaycasino.com/event/63000-whoppin-shoppin-giveaway/2022-12-10/
LOCATION:Legends Bay Casino\, 100 Legends Bay Drive\, Sparks\, NV\, 89434\, United States
CATEGORIES:Casino Promotions
ATTACH;FMTTYPE=image/jpeg:https://legendsbaycasino.com/wp-content/uploads/2022/11/LBC_14260-Dec22-Promo-JPGs_1080x1080.jpg
END:VEVENT
BEGIN:VEVENT
DTSTART;TZID=America/Los_Angeles:20221210T193000
DTEND;TZID=America/Los_Angeles:20221210T193000
DTSTAMP:20260420T085643
CREATED:20221006T164021Z
LAST-MODIFIED:20221006T164021Z
UID:10000276-1670700600-1670700600@legendsbaycasino.com
SUMMARY:Arizona Jones
DESCRIPTION:
URL:https://legendsbaycasino.com/event/arizona-jones-3/2022-12-10/
LOCATION:NV
CATEGORIES:Bandwagon Entertainment
END:VEVENT
END:VCALENDAR